BEGIN:VCALENDAR
VERSION:2.0
PRODID:-//Marktgemeinde Wölbling - ECPv6.15.20//NONSGML v1.0//EN
CALSCALE:GREGORIAN
METHOD:PUBLISH
X-WR-CALNAME:Marktgemeinde Wölbling
X-ORIGINAL-URL:https://woelbling.at
X-WR-CALDESC:Veranstaltungen für Marktgemeinde Wölbling
REFRESH-INTERVAL;VALUE=DURATION:PT1H
X-Robots-Tag:noindex
X-PUBLISHED-TTL:PT1H
BEGIN:VTIMEZONE
TZID:Europe/Vienna
BEGIN:DAYLIGHT
TZOFFSETFROM:+0100
TZOFFSETTO:+0200
TZNAME:CEST
DTSTART:20240331T010000
END:DAYLIGHT
BEGIN:STANDARD
TZOFFSETFROM:+0200
TZOFFSETTO:+0100
TZNAME:CET
DTSTART:20241027T010000
END:STANDARD
BEGIN:DAYLIGHT
TZOFFSETFROM:+0100
TZOFFSETTO:+0200
TZNAME:CEST
DTSTART:20250330T010000
END:DAYLIGHT
BEGIN:STANDARD
TZOFFSETFROM:+0200
TZOFFSETTO:+0100
TZNAME:CET
DTSTART:20251026T010000
END:STANDARD
BEGIN:DAYLIGHT
TZOFFSETFROM:+0100
TZOFFSETTO:+0200
TZNAME:CEST
DTSTART:20260329T010000
END:DAYLIGHT
BEGIN:STANDARD
TZOFFSETFROM:+0200
TZOFFSETTO:+0100
TZNAME:CET
DTSTART:20261025T010000
END:STANDARD
END:VTIMEZONE
BEGIN:VEVENT
DTSTART;TZID=Europe/Vienna:20250215T130000
DTEND;TZID=Europe/Vienna:20250215T170000
DTSTAMP:20260419T142102
CREATED:20241112T165734Z
LAST-MODIFIED:20241112T165741Z
UID:42597-1739624400-1739638800@woelbling.at
SUMMARY:Sportunion Wölbling | Volleyball Meisterschaftsspiel
DESCRIPTION:Sportunion Wölbling | Volleyball Meisterschaftsspiel\nSporthalle Wölbling
URL:https://woelbling.at/event/sportunion-woelbling-volleyball-meisterschaftsspiel/
LOCATION:SMS Wölbling\, Oberer Markt 15\, Oberwölbling\, NÖ\, 3124\, Österreich
CATEGORIES:Sport
END:VEVENT
END:VCALENDAR