BEGIN:VCALENDAR
VERSION:2.0
PRODID:-//Marktgemeinde Wölbling - ECPv6.15.20//NONSGML v1.0//EN
CALSCALE:GREGORIAN
METHOD:PUBLISH
X-WR-CALNAME:Marktgemeinde Wölbling
X-ORIGINAL-URL:https://woelbling.at
X-WR-CALDESC:Veranstaltungen für Marktgemeinde Wölbling
REFRESH-INTERVAL;VALUE=DURATION:PT1H
X-Robots-Tag:noindex
X-PUBLISHED-TTL:PT1H
BEGIN:VTIMEZONE
TZID:Europe/Vienna
BEGIN:DAYLIGHT
TZOFFSETFROM:+0100
TZOFFSETTO:+0200
TZNAME:CEST
DTSTART:20250330T010000
END:DAYLIGHT
BEGIN:STANDARD
TZOFFSETFROM:+0200
TZOFFSETTO:+0100
TZNAME:CET
DTSTART:20251026T010000
END:STANDARD
BEGIN:DAYLIGHT
TZOFFSETFROM:+0100
TZOFFSETTO:+0200
TZNAME:CEST
DTSTART:20260329T010000
END:DAYLIGHT
BEGIN:STANDARD
TZOFFSETFROM:+0200
TZOFFSETTO:+0100
TZNAME:CET
DTSTART:20261025T010000
END:STANDARD
BEGIN:DAYLIGHT
TZOFFSETFROM:+0100
TZOFFSETTO:+0200
TZNAME:CEST
DTSTART:20270328T010000
END:DAYLIGHT
BEGIN:STANDARD
TZOFFSETFROM:+0200
TZOFFSETTO:+0100
TZNAME:CET
DTSTART:20271031T010000
END:STANDARD
END:VTIMEZONE
BEGIN:VEVENT
DTSTART;VALUE=DATE:20261020
DTEND;VALUE=DATE:20261021
DTSTAMP:20260419T223833
CREATED:20240213T113231Z
LAST-MODIFIED:20251224T090302Z
UID:22944-1792454400-1792540799@woelbling.at
SUMMARY:Müllabfuhr – Restmüll EP & MP
DESCRIPTION:Müllabfuhr – Restmüll EP & MP\nErklärung\nRM EP = Restmüll Einpersonenhaushalt\nRM MP = Restmüll Mehrpersonenhaushalt\nGS = Gelber Sack/Kunststoffverpackungen\nAP = Altpapier\nBIO = Biomüll \n  \nBrandtner – Entsorgung.Facility Services\, 3500 Krems a.d. Donau\, Dr-Franz-Wilhelm-Straße 2a \nACHTUNG – Mülltonnen bitte bis 6:00 Uhr bereitstellen!\nDownload: Abfuhrkalender Haushalte 2026 \n 
URL:https://woelbling.at/event/muellabfuhr-restmuell-ep-mp-3-2-2/
LOCATION:Marktgemeinde Wölbling\, Marktgemeinde Wölbling\, NÖ\, 3124\, Österreich
CATEGORIES:Müllabfuhr - Restmüll
ATTACH;FMTTYPE=image/jpeg:https://woelbling.at/wp-content/uploads/2018/11/Muellabfuhr_Gemeindeverband.jpg
ORGANIZER;CN="brantner ENTSORGUNG.FACILITY SERVICES":MAILTO:office.waste@brantner.com
END:VEVENT
END:VCALENDAR