BEGIN:VCALENDAR
VERSION:2.0
PRODID:-//Marktgemeinde Wölbling - ECPv6.15.20//NONSGML v1.0//EN
CALSCALE:GREGORIAN
METHOD:PUBLISH
X-ORIGINAL-URL:https://woelbling.at
X-WR-CALDESC:Veranstaltungen für Marktgemeinde Wölbling
REFRESH-INTERVAL;VALUE=DURATION:PT1H
X-Robots-Tag:noindex
X-PUBLISHED-TTL:PT1H
BEGIN:VTIMEZONE
TZID:Europe/Vienna
BEGIN:DAYLIGHT
TZOFFSETFROM:+0100
TZOFFSETTO:+0200
TZNAME:CEST
DTSTART:20240331T010000
END:DAYLIGHT
BEGIN:STANDARD
TZOFFSETFROM:+0200
TZOFFSETTO:+0100
TZNAME:CET
DTSTART:20241027T010000
END:STANDARD
BEGIN:DAYLIGHT
TZOFFSETFROM:+0100
TZOFFSETTO:+0200
TZNAME:CEST
DTSTART:20250330T010000
END:DAYLIGHT
BEGIN:STANDARD
TZOFFSETFROM:+0200
TZOFFSETTO:+0100
TZNAME:CET
DTSTART:20251026T010000
END:STANDARD
BEGIN:DAYLIGHT
TZOFFSETFROM:+0100
TZOFFSETTO:+0200
TZNAME:CEST
DTSTART:20260329T010000
END:DAYLIGHT
BEGIN:STANDARD
TZOFFSETFROM:+0200
TZOFFSETTO:+0100
TZNAME:CET
DTSTART:20261025T010000
END:STANDARD
END:VTIMEZONE
BEGIN:VEVENT
DTSTART;TZID=Europe/Vienna:20250615T083000
DTEND;TZID=Europe/Vienna:20250615T103000
DTSTAMP:20260420T013522
CREATED:20160306T140740Z
LAST-MODIFIED:20241112T194339Z
UID:1172-1749976200-1749983400@woelbling.at
SUMMARY:Vitusmesse
DESCRIPTION:Vitusmesse\nUnterwölbling
URL:https://woelbling.at/event/vitusmesse/
LOCATION:Filialkirche Unterwölbling\, Unterwölbling\, Österreich
CATEGORIES:Kirche
END:VEVENT
BEGIN:VEVENT
DTSTART;TZID=Europe/Vienna:20250621T100000
DTEND;TZID=Europe/Vienna:20250621T130000
DTSTAMP:20260420T013522
CREATED:20161129T090753Z
LAST-MODIFIED:20241112T194424Z
UID:2897-1750500000-1750510800@woelbling.at
SUMMARY:Firmung
DESCRIPTION:Firmung
URL:https://woelbling.at/event/firmung/
LOCATION:Pfarrkirche Oberwölbling\, Oberwölbling\, 3125\, Österreich
CATEGORIES:Kirche
END:VEVENT
END:VCALENDAR