BEGIN:VCALENDAR
VERSION:2.0
PRODID:-//Marktgemeinde Wölbling - ECPv6.15.20//NONSGML v1.0//EN
CALSCALE:GREGORIAN
METHOD:PUBLISH
X-WR-CALNAME:Marktgemeinde Wölbling
X-ORIGINAL-URL:https://woelbling.at
X-WR-CALDESC:Veranstaltungen für Marktgemeinde Wölbling
REFRESH-INTERVAL;VALUE=DURATION:PT1H
X-Robots-Tag:noindex
X-PUBLISHED-TTL:PT1H
BEGIN:VTIMEZONE
TZID:Europe/Vienna
BEGIN:DAYLIGHT
TZOFFSETFROM:+0100
TZOFFSETTO:+0200
TZNAME:CEST
DTSTART:20240331T010000
END:DAYLIGHT
BEGIN:STANDARD
TZOFFSETFROM:+0200
TZOFFSETTO:+0100
TZNAME:CET
DTSTART:20241027T010000
END:STANDARD
BEGIN:DAYLIGHT
TZOFFSETFROM:+0100
TZOFFSETTO:+0200
TZNAME:CEST
DTSTART:20250330T010000
END:DAYLIGHT
BEGIN:STANDARD
TZOFFSETFROM:+0200
TZOFFSETTO:+0100
TZNAME:CET
DTSTART:20251026T010000
END:STANDARD
BEGIN:DAYLIGHT
TZOFFSETFROM:+0100
TZOFFSETTO:+0200
TZNAME:CEST
DTSTART:20260329T010000
END:DAYLIGHT
BEGIN:STANDARD
TZOFFSETFROM:+0200
TZOFFSETTO:+0100
TZNAME:CET
DTSTART:20261025T010000
END:STANDARD
END:VTIMEZONE
BEGIN:VEVENT
DTSTART;TZID=Europe/Vienna:20250630T080000
DTEND;TZID=Europe/Vienna:20250704T130000
DTSTAMP:20260419T154536
CREATED:20250306T161613Z
LAST-MODIFIED:20250306T161753Z
UID:44937-1751270400-1751634000@woelbling.at
SUMMARY:Sommerwochen 2025 - Kunterbuntwoche
DESCRIPTION:Malen Basteln\, Spielen\, Wandern\, Schwimmen und alles\, was den Kindern sonst noch so einfällt und Spaß macht. Gemeinsam mit den Kindern gestalten wir ein abwechslungsreiches und sommerliches Programm für diese Woche. \n>> Sommerwochen Download Elternbrief \n 
URL:https://woelbling.at/event/sommerwochen-2025-kunterbuntwoche/
LOCATION:Pfarrhof\, Oberwölbling\, 3125\, Österreich
CATEGORIES:Info,Kinder
ATTACH;FMTTYPE=image/jpeg:https://woelbling.at/wp-content/uploads/2023/02/wappen_woelbling_thumbnail.jpg
END:VEVENT
END:VCALENDAR