BEGIN:VCALENDAR
VERSION:2.0
PRODID:-//Marktgemeinde Wölbling - ECPv6.15.20//NONSGML v1.0//EN
CALSCALE:GREGORIAN
METHOD:PUBLISH
X-ORIGINAL-URL:https://woelbling.at
X-WR-CALDESC:Veranstaltungen für Marktgemeinde Wölbling
REFRESH-INTERVAL;VALUE=DURATION:PT1H
X-Robots-Tag:noindex
X-PUBLISHED-TTL:PT1H
BEGIN:VTIMEZONE
TZID:Europe/Vienna
BEGIN:DAYLIGHT
TZOFFSETFROM:+0100
TZOFFSETTO:+0200
TZNAME:CEST
DTSTART:20240331T010000
END:DAYLIGHT
BEGIN:STANDARD
TZOFFSETFROM:+0200
TZOFFSETTO:+0100
TZNAME:CET
DTSTART:20241027T010000
END:STANDARD
BEGIN:DAYLIGHT
TZOFFSETFROM:+0100
TZOFFSETTO:+0200
TZNAME:CEST
DTSTART:20250330T010000
END:DAYLIGHT
BEGIN:STANDARD
TZOFFSETFROM:+0200
TZOFFSETTO:+0100
TZNAME:CET
DTSTART:20251026T010000
END:STANDARD
BEGIN:DAYLIGHT
TZOFFSETFROM:+0100
TZOFFSETTO:+0200
TZNAME:CEST
DTSTART:20260329T010000
END:DAYLIGHT
BEGIN:STANDARD
TZOFFSETFROM:+0200
TZOFFSETTO:+0100
TZNAME:CET
DTSTART:20261025T010000
END:STANDARD
END:VTIMEZONE
BEGIN:VEVENT
DTSTART;VALUE=DATE:20250405
DTEND;VALUE=DATE:20250407
DTSTAMP:20260422T124112
CREATED:20241112T173908Z
LAST-MODIFIED:20241112T173908Z
UID:42619-1743811200-1743983999@woelbling.at
SUMMARY:Frühlingsausstellung | Galerie 3i
DESCRIPTION:Frühlingsausstellung | Galerie 3i\nGallerie 3i\nInnerer Kühstand 38
URL:https://woelbling.at/event/fruehlingsausstellung-galerie-3i/
LOCATION:Gallerie 3i\, Innerer Kühstand 38\, Oberwölbling\, NÖ\, 3124\, Österreich
CATEGORIES:Info
ATTACH;FMTTYPE=image/jpeg:https://woelbling.at/wp-content/uploads/2019/09/2019www_09.jpg
END:VEVENT
BEGIN:VEVENT
DTSTART;TZID=Europe/Vienna:20250407T163000
DTEND;TZID=Europe/Vienna:20250407T180000
DTSTAMP:20260422T124112
CREATED:20240820T064203Z
LAST-MODIFIED:20250113T170203Z
UID:33880-1744043400-1744048800@woelbling.at
SUMMARY:Klimafittes Gärtnern\, Wohnen\, Bauen und Sanieren
DESCRIPTION:Kostenlose Beratung für Bürgerinnen und Bürger:\nKlimafittes Gärtnern\, Wohnen\, Bauen und Sanieren
URL:https://woelbling.at/event/klimafittes-gaertnern-wohnen-bauen-und-sanieren/
LOCATION:Gemeindeamt\, Oberer Markt 1\, Oberwölbling\, 3124\, Österreich
CATEGORIES:Info
END:VEVENT
BEGIN:VEVENT
DTSTART;TZID=Europe/Vienna:20250428T163000
DTEND;TZID=Europe/Vienna:20250428T180000
DTSTAMP:20260422T124112
CREATED:20250113T170325Z
LAST-MODIFIED:20250113T170731Z
UID:43900-1745857800-1745863200@woelbling.at
SUMMARY:Klimafittes Gärtnern\, Wohnen\, Bauen und Sanieren
DESCRIPTION:Kostenlose Beratung für Bürgerinnen und Bürger:\nKlimafittes Gärtnern\, Wohnen\, Bauen und Sanieren
URL:https://woelbling.at/event/klimafittes-gaertnern-wohnen-bauen-und-sanieren-2/
LOCATION:Gemeindeamt\, Oberer Markt 1\, Oberwölbling\, 3124\, Österreich
CATEGORIES:Info
END:VEVENT
END:VCALENDAR