BEGIN:VCALENDAR
VERSION:2.0
PRODID:-//Marktgemeinde Wölbling - ECPv6.15.20//NONSGML v1.0//EN
CALSCALE:GREGORIAN
METHOD:PUBLISH
X-ORIGINAL-URL:https://woelbling.at
X-WR-CALDESC:Veranstaltungen für Marktgemeinde Wölbling
REFRESH-INTERVAL;VALUE=DURATION:PT1H
X-Robots-Tag:noindex
X-PUBLISHED-TTL:PT1H
BEGIN:VTIMEZONE
TZID:Europe/Vienna
BEGIN:DAYLIGHT
TZOFFSETFROM:+0100
TZOFFSETTO:+0200
TZNAME:CEST
DTSTART:20240331T010000
END:DAYLIGHT
BEGIN:STANDARD
TZOFFSETFROM:+0200
TZOFFSETTO:+0100
TZNAME:CET
DTSTART:20241027T010000
END:STANDARD
BEGIN:DAYLIGHT
TZOFFSETFROM:+0100
TZOFFSETTO:+0200
TZNAME:CEST
DTSTART:20250330T010000
END:DAYLIGHT
BEGIN:STANDARD
TZOFFSETFROM:+0200
TZOFFSETTO:+0100
TZNAME:CET
DTSTART:20251026T010000
END:STANDARD
BEGIN:DAYLIGHT
TZOFFSETFROM:+0100
TZOFFSETTO:+0200
TZNAME:CEST
DTSTART:20260329T010000
END:DAYLIGHT
BEGIN:STANDARD
TZOFFSETFROM:+0200
TZOFFSETTO:+0100
TZNAME:CET
DTSTART:20261025T010000
END:STANDARD
END:VTIMEZONE
BEGIN:VEVENT
DTSTART;TZID=Europe/Vienna:20250201T093000
DTEND;TZID=Europe/Vienna:20250201T123000
DTSTAMP:20260421T101217
CREATED:20250114T195642Z
LAST-MODIFIED:20250114T200528Z
UID:43930-1738402200-1738413000@woelbling.at
SUMMARY:Schreiben-erzählen-unsere Seele nähren
DESCRIPTION:Schreiben-erzählen-unsere Seele nähren\nReinisch Bettina \n 
URL:https://woelbling.at/event/schreiben-erzaehlen-unsere-seele-naehren/
LOCATION:online
CATEGORIES:Gesundes Wölbling
ATTACH;FMTTYPE=image/webp:https://woelbling.at/wp-content/uploads/2024/06/Logo24_gesunde_gemeinde.webp
END:VEVENT
BEGIN:VEVENT
DTSTART;TZID=Europe/Vienna:20250212T170000
DTEND;TZID=Europe/Vienna:20250212T201500
DTSTAMP:20260421T101217
CREATED:20250115T072114Z
LAST-MODIFIED:20250115T072815Z
UID:43981-1739379600-1739391300@woelbling.at
SUMMARY:Schöpferische Abende für Erwachsene
DESCRIPTION:Schöpferische Abende für Erwachsene\nSabine Haslinger
URL:https://woelbling.at/event/schoepferische-abende-fuer-erwachsene/
LOCATION:Cohousing Pomali\, Landersdorf\, Landersdorf\, NÖ\, 3124\, Österreich
CATEGORIES:Gesundes Wölbling
ATTACH;FMTTYPE=image/webp:https://woelbling.at/wp-content/uploads/2024/06/Logo24_gesunde_gemeinde.webp
END:VEVENT
BEGIN:VEVENT
DTSTART;TZID=Europe/Vienna:20250212T180000
DTEND;TZID=Europe/Vienna:20250212T191500
DTSTAMP:20260421T101217
CREATED:20240823T121638Z
LAST-MODIFIED:20240823T122848Z
UID:34914-1739383200-1739387700@woelbling.at
SUMMARY:Meditationszirkel
DESCRIPTION:Meditationszirkel\nVortragende:\nGruber Monika
URL:https://woelbling.at/event/meditationszirkel-2-2-2-2/
LOCATION:Kindergarten\, Kindergartenstrasse 5\, Oberwölbling\, 3124\, Österreich
CATEGORIES:Gesundes Wölbling
ATTACH;FMTTYPE=image/webp:https://woelbling.at/wp-content/uploads/2024/06/Logo24_gesunde_gemeinde.webp
END:VEVENT
BEGIN:VEVENT
DTSTART;VALUE=DATE:20250214
DTEND;VALUE=DATE:20250215
DTSTAMP:20260421T101217
CREATED:20250114T201045Z
LAST-MODIFIED:20250114T201045Z
UID:43951-1739491200-1739577599@woelbling.at
SUMMARY:Spazierengehen mal anders
DESCRIPTION:Spazierengehen mal anders\nStern Ulrike
URL:https://woelbling.at/event/spazierengehen-mal-anders-2/
LOCATION:Ambach 54\, Ambach 54\, Ambach\, 3124
CATEGORIES:Gesundes Wölbling
ATTACH;FMTTYPE=image/webp:https://woelbling.at/wp-content/uploads/2024/06/Logo24_gesunde_gemeinde.webp
END:VEVENT
BEGIN:VEVENT
DTSTART;TZID=Europe/Vienna:20250215T140000
DTEND;TZID=Europe/Vienna:20250215T180000
DTSTAMP:20260421T101217
CREATED:20240823T074954Z
LAST-MODIFIED:20250114T183936Z
UID:34788-1739628000-1739642400@woelbling.at
SUMMARY:Nähcafé
DESCRIPTION:Nähcafé\nVerein DA\, Verein EBI
URL:https://woelbling.at/event/naehcafe-2/
LOCATION:Gemeinschaftspraxis Herz Hand Werk\, Wachaustraße 29\, Oberwölbling\, NÖ\, 3124
CATEGORIES:Gesundes Wölbling
ATTACH;FMTTYPE=image/webp:https://woelbling.at/wp-content/uploads/2024/06/Logo24_gesunde_gemeinde.webp
END:VEVENT
BEGIN:VEVENT
DTSTART;TZID=Europe/Vienna:20250222T100000
DTEND;TZID=Europe/Vienna:20250222T120000
DTSTAMP:20260421T101217
CREATED:20240823T125217Z
LAST-MODIFIED:20240823T125217Z
UID:34940-1740218400-1740225600@woelbling.at
SUMMARY:Die heilsame Kraft der Baumknospen
DESCRIPTION:Die heilsame Kraft der Baumknospen\nVortragende:\nDürnberger Markus
URL:https://woelbling.at/event/die-heilsame-kraft-der-baumknospen/
LOCATION:Gemeindeamt\, Oberer Markt 1\, Oberwölbling\, 3124\, Österreich
CATEGORIES:Gesundes Wölbling
ATTACH;FMTTYPE=image/webp:https://woelbling.at/wp-content/uploads/2024/06/Logo24_gesunde_gemeinde.webp
END:VEVENT
BEGIN:VEVENT
DTSTART;VALUE=DATE:20250228
DTEND;VALUE=DATE:20250301
DTSTAMP:20260421T101217
CREATED:20250114T201104Z
LAST-MODIFIED:20250114T201104Z
UID:43953-1740700800-1740787199@woelbling.at
SUMMARY:Spazierengehen mal anders
DESCRIPTION:Spazierengehen mal anders\nStern Ulrike
URL:https://woelbling.at/event/spazierengehen-mal-anders-2-2/
LOCATION:Ambach 54\, Ambach 54\, Ambach\, 3124
CATEGORIES:Gesundes Wölbling
ATTACH;FMTTYPE=image/webp:https://woelbling.at/wp-content/uploads/2024/06/Logo24_gesunde_gemeinde.webp
END:VEVENT
BEGIN:VEVENT
DTSTART;TZID=Europe/Vienna:20250228T153000
DTEND;TZID=Europe/Vienna:20250228T170000
DTSTAMP:20260421T101217
CREATED:20240823T122607Z
LAST-MODIFIED:20250115T075316Z
UID:34924-1740756600-1740762000@woelbling.at
SUMMARY:Kleine Lebensmittelforscher
DESCRIPTION:Kleine Lebensmittelforscher\nWir erforschen Milchprodukte \nVortragende:\nEmsenhuber Barbara
URL:https://woelbling.at/event/kleine-lebensmittelforscher/
LOCATION:SMS Wölbling\, Oberer Markt 15\, Oberwölbling\, NÖ\, 3124\, Österreich
CATEGORIES:Gesundes Wölbling
ATTACH;FMTTYPE=image/webp:https://woelbling.at/wp-content/uploads/2024/06/Logo24_gesunde_gemeinde.webp
END:VEVENT
END:VCALENDAR